BEGIN:VCALENDAR
VERSION:2.0
PRODID:-//ausbildung.berlin - ECPv6.15.20//NONSGML v1.0//EN
CALSCALE:GREGORIAN
METHOD:PUBLISH
X-ORIGINAL-URL:https://ausbildung.berlin
X-WR-CALDESC:Veranstaltungen für ausbildung.berlin
REFRESH-INTERVAL;VALUE=DURATION:PT1H
X-Robots-Tag:noindex
X-PUBLISHED-TTL:PT1H
BEGIN:VTIMEZONE
TZID:UTC
BEGIN:STANDARD
TZOFFSETFROM:+0000
TZOFFSETTO:+0000
TZNAME:UTC
DTSTART:20210101T000000
END:STANDARD
END:VTIMEZONE
BEGIN:VEVENT
DTSTART;TZID=UTC:20220711T083000
DTEND;TZID=UTC:20220715T140000
DTSTAMP:20260424T172311
CREATED:20220321T201650Z
LAST-MODIFIED:20220321T201650Z
UID:10000095-1657528200-1657893600@ausbildung.berlin
SUMMARY:Technik-Camp I in den Sommerferien 2022
DESCRIPTION:Was macht eigentlich eine: Zerspanungsmechanikerin\, Werkzeugmechanikerin\, Technische Produktdesignerin\, Technische Systemplanerin\, Mechatronikerin\, Industriemechanikerin oder Elektronikerin für Betriebstechnik? \nFinde es raus und melde dich jetzt für unser kostenfreies Technik-Camp in den Sommerferien vom 11.07.-15.07.2022 (täglich von 08.30 – 14.00 Uhr) an. \nSchnapp dir deine beste Freundin/deinen besten Freund und entdeckt gemeinsam die Welt der Technik! \nIn der Technik-Camp-Woche erwartet Euch: \n– Kennenlernen von Maschinen und Arbeitstechniken\n– Handwerkliches Arbeiten\, wie feilen\, Löten\, verdrahten\n– Herstellung eines eigenen Solarflugzeugs und/oder\n– Löten von Elektronischen Würfeln und anderen Bausätzen und/oder\n– Bauen und Programmieren von „Gyroboy“ von LEGO® MINDSTORMS® und/oder\n– Spielerisches Programmieren mit Roberta®\n– Austausch mit Auszubildenden und den jungen Frauen von girlsatec\n– Betriebsbesichtigungen in Berliner Unternehmen (je nach aktuellen Regelungen)\n– Ein direkter Einblick in die Arbeitswelt\n– Informationen rund um Ausbildung und Jobchancen \nFür wen? \nFür interessierte Schülerinnen und Schüler ab der fünften Klasse aller Berliner und Brandenburger Schulen. \nWas ist noch wichtig? \n– Die Teilnahme am Technik-Camp ist kostenfrei.\n– Es gilt die 3G-Regel (Eine Teilnahme ist nur mit tagesaktuellem Test-/Genesungs-/oder Impfnachweis möglich).\n– In der ABB Ausbildungszentrum Berlin gGmbH besteht Maskenpflicht (Tragen einer medizinischen Maske erforderlich). An den Arbeitsplätzen können diese allerdings abgenommen werden.\n– Es findet keine Übernachtung statt.\n– Bring dir bitte ein kleines Frühstück mit.\n– Ein tägliches Mittagessen wird von der ABB Ausbildungszentrum Berlin gGmbH gestellt.\nWir freuen uns auf eine spannende\, kreative und abwechslungsreiche Woche mit Dir/Euch! \nDein girlsatec-Team \nWeitere Fragen zum Camp? Wir vom ABB Ausbildungszentrum Berlin gGmbH stehen dir gern zur Verfügung unter der +49 (0) 151 2236 2493 oder per Mail: info(at)girlsatec.de
URL:https://ausbildung.berlin/event/technik-camp-i-in-den-sommerferien-2022/
LOCATION:ABB Ausbildungszentrum Berlin gGmbH\, Lessingstraße 89\, Berlin\, 13158\, Deutschland
ATTACH;FMTTYPE=image/jpeg:https://ausbildung.berlin/wp-content/uploads/2022/03/2-480x460-1.jpg
END:VEVENT
END:VCALENDAR