BEGIN:VCALENDAR
VERSION:2.0
PRODID:-//ausbildung.berlin - ECPv6.15.20//NONSGML v1.0//EN
CALSCALE:GREGORIAN
METHOD:PUBLISH
X-WR-CALNAME:ausbildung.berlin
X-ORIGINAL-URL:https://ausbildung.berlin
X-WR-CALDESC:Veranstaltungen für ausbildung.berlin
REFRESH-INTERVAL;VALUE=DURATION:PT1H
X-Robots-Tag:noindex
X-PUBLISHED-TTL:PT1H
BEGIN:VTIMEZONE
TZID:UTC
BEGIN:STANDARD
TZOFFSETFROM:+0000
TZOFFSETTO:+0000
TZNAME:UTC
DTSTART:20200101T000000
END:STANDARD
END:VTIMEZONE
BEGIN:VEVENT
DTSTART;TZID=UTC:20210520T120000
DTEND;TZID=UTC:20210616T180000
DTSTAMP:20260422T010022
CREATED:20210525T112123Z
LAST-MODIFIED:20210525T112123Z
UID:10000115-1621512000-1623866400@ausbildung.berlin
SUMMARY:Talent trifft Stern – Ausbildungsmesse digital!
DESCRIPTION:Schule vorbei? Und dann? Informationen zu unserem spannenden Ausbildungs- und Studienangebot gibt es auf unserer 1. Digitalen Ausbildungsmesse vom 20.05.21 bis 16.06.21. \nAn unseren Live-Chats am 20.05.21. und am 10.06.21\, jeweils von 12:00 – 18.00 Uhr\, beantworten unseren Azubis\, Studierenden und Ausbilder gerne alle Fragen rund um die Ausbildung und das Duale Studium und geben Tipps zum Bewerbungs- und Auswahlverfahren.
URL:https://ausbildung.berlin/event/talent-trifft-stern-ausbildungsmesse-digital/
LOCATION:Berlin\, Berlin\, Deutschland
ATTACH;FMTTYPE=image/jpeg:https://ausbildung.berlin/wp-content/uploads/2021/05/Ausbildungsmesse.jpg
END:VEVENT
END:VCALENDAR