BEGIN:VCALENDAR
VERSION:2.0
PRODID:-//ausbildung.berlin - ECPv6.15.20//NONSGML v1.0//EN
CALSCALE:GREGORIAN
METHOD:PUBLISH
X-ORIGINAL-URL:https://ausbildung.berlin
X-WR-CALDESC:Veranstaltungen für ausbildung.berlin
REFRESH-INTERVAL;VALUE=DURATION:PT1H
X-Robots-Tag:noindex
X-PUBLISHED-TTL:PT1H
BEGIN:VTIMEZONE
TZID:UTC
BEGIN:STANDARD
TZOFFSETFROM:+0000
TZOFFSETTO:+0000
TZNAME:UTC
DTSTART:20240101T000000
END:STANDARD
END:VTIMEZONE
BEGIN:VEVENT
DTSTART;TZID=UTC:20250116T180000
DTEND;TZID=UTC:20250116T193000
DTSTAMP:20260423T180454
CREATED:20241025T130411Z
LAST-MODIFIED:20241025T130411Z
UID:10000237-1737050400-1737055800@ausbildung.berlin
SUMMARY:Digitaler Elternabend: Gap Year in Deutschland – Freiwillige vor! Dienste & mehr
DESCRIPTION:Gap Year in Deutschland – Freiwillige vor! Dienste & mehr\nLiebe Eltern\, wir laden Sie herzlich ein und informieren Sie zu allen Themen\, die wichtig werden\, wenn Ihre Kinder die Schule beenden. Die Veranstaltung findet online von 18:00 bis 19:30 Uhr statt. \nAnmeldung einfach über www.elterngutinformiert.de.
URL:https://ausbildung.berlin/event/digitaler-elternabend-gap-year-in-deutschland-freiwillige-vor-dienste-mehr/
LOCATION:digital
ATTACH;FMTTYPE=image/jpeg:https://ausbildung.berlin/wp-content/uploads/2024/10/EA-Logo-2.jpg
ORGANIZER;CN="ElternAkademie der Berufsberatungen in Berlin und Brandenburg":MAILTO:berlin-mitte.elterngutinformiert.de
END:VEVENT
END:VCALENDAR