BEGIN:VCALENDAR
VERSION:2.0
PRODID:-//ausbildung.berlin - ECPv6.15.20//NONSGML v1.0//EN
CALSCALE:GREGORIAN
METHOD:PUBLISH
X-WR-CALNAME:ausbildung.berlin
X-ORIGINAL-URL:https://ausbildung.berlin
X-WR-CALDESC:Veranstaltungen für ausbildung.berlin
REFRESH-INTERVAL;VALUE=DURATION:PT1H
X-Robots-Tag:noindex
X-PUBLISHED-TTL:PT1H
BEGIN:VTIMEZONE
TZID:UTC
BEGIN:STANDARD
TZOFFSETFROM:+0000
TZOFFSETTO:+0000
TZNAME:UTC
DTSTART:20230101T000000
END:STANDARD
END:VTIMEZONE
BEGIN:VEVENT
DTSTART;TZID=UTC:20241106T160000
DTEND;TZID=UTC:20241106T170000
DTSTAMP:20260423T151350
CREATED:20240912T114239Z
LAST-MODIFIED:20240912T114239Z
UID:10000233-1730908800-1730912400@ausbildung.berlin
SUMMARY:Infoveranstaltung zu verschiedenen Ausbildungsgängen
DESCRIPTION:Die Euro Akademie Berlin lädt immer am ersten Mittwoch des Monats um 16 Uhr zu einer allgemeinen Informationsveranstaltung zu sich an die Berufsschule ein. Interessierte Schüler*innen\, junge Erwachsene und Eltern können sich hier bei Lehrkräften bzw. den Schulleitungen zu den formalen Zugangsvoraussetzungen und Inhalten folgender Ausbildungsgänge erkundigen\, die an der Euro Akademie angeboten werden: \n\nSozialassistent*in\nErzieher*in (vollschulisch oder berufsbegleitend)\nFremdsprachenkorrespondent*in\nPhysiotherapeut*in\nPflegefachassistent*in\n1-jährige Fachoberschule Gesundheit & Soziales (Schwerpunkt Sozialpädagogik)
URL:https://ausbildung.berlin/event/infoveranstaltung-zu-verschiedenen-ausbildungsgaengen/2024-11-06/
LOCATION:Euro Akademie Berlin\, Berliner Straße 66\, Berlin\, 13507\, Deutschland
ATTACH;FMTTYPE=image/png:https://ausbildung.berlin/wp-content/uploads/2024/09/Logo_EA_negativ_Rahmen_RGB_940x560px-23042019_114524.png
ORGANIZER;CN="Euro Akademie Berlin":MAILTO:berlin@euroakademie.de
END:VEVENT
BEGIN:VEVENT
DTSTART;TZID=UTC:20241115T090000
DTEND;TZID=UTC:20241116T160000
DTSTAMP:20260423T151350
CREATED:20240807T082542Z
LAST-MODIFIED:20240807T082542Z
UID:10000229-1731661200-1731772800@ausbildung.berlin
SUMMARY:Einstieg Berlin
DESCRIPTION:Die Einstieg Berlin ist eine der größten Messen für Ausbildung und Studium in Deutschland. Zwei Tage lang stellen Unternehmen und Hochschulen dort ihre Ausbildungsplätze\, Studiengänge und Gap-Year-Programme vor. Verschiedene Mitmach-Aktionen geben den Schüler:innen einen Einblick in zahlreiche Berufsfelder. Ebenfalls erhalten sie bei Berufsverbänden\, der Bundesagentur für Arbeit\, Kammern\, Behörden und Ministerien relevante Informationen für ihre Zukunft. Wer Interesse hat\, kann sich bei der Bühne Vorträge zu verschiedenen Themen anhören.
URL:https://ausbildung.berlin/event/einstieg-berlin-2/
LOCATION:Arena Berlin\, Techstr. 31\, Berlin\, 10781
ATTACH;FMTTYPE=image/jpeg:https://ausbildung.berlin/wp-content/uploads/2024/07/Einstieg-Berlin-klein-scaled.jpg
ORGANIZER;CN="Einstieg GmbH":MAILTO:schueler@einstieg.com
END:VEVENT
BEGIN:VEVENT
DTSTART;TZID=UTC:20241121T180000
DTEND;TZID=UTC:20241121T193000
DTSTAMP:20260423T151350
CREATED:20241024T134554Z
LAST-MODIFIED:20241024T134554Z
UID:10000235-1732212000-1732217400@ausbildung.berlin
SUMMARY:Digitaler Elternabend: Gap Year im Ausland - nach der Schule die Welt entdecken!
DESCRIPTION:Liebe Eltern\, wir laden Sie herzlich ein und informieren Sie zu allen Themen\, die wichtig werden\, wenn Ihre Kinder die Schule beenden. Bei dieser Veranstaltung das Thema: Gap Year im Ausland – nach der Schule die Welt entdecken! Die Veranstaltung findet online von 18:00 bis 19:30 Uhr statt.\nAnmeldung einfach über www.elterngutinformiert.de.
URL:https://ausbildung.berlin/event/digitaler-elternabend-gap-year-im-ausland-nach-der-schule-die-welt-entdecken/
LOCATION:digital
ATTACH;FMTTYPE=image/jpeg:https://ausbildung.berlin/wp-content/uploads/2024/10/EA-Logo.jpg
ORGANIZER;CN="ElternAkademie der Berufsberatungen in Berlin und Brandenburg":MAILTO:berlin-mitte.elterngutinformiert.de
END:VEVENT
END:VCALENDAR