BEGIN:VCALENDAR
VERSION:2.0
PRODID:-//ausbildung.berlin - ECPv6.15.20//NONSGML v1.0//EN
CALSCALE:GREGORIAN
METHOD:PUBLISH
X-WR-CALNAME:ausbildung.berlin
X-ORIGINAL-URL:https://ausbildung.berlin
X-WR-CALDESC:Veranstaltungen für ausbildung.berlin
REFRESH-INTERVAL;VALUE=DURATION:PT1H
X-Robots-Tag:noindex
X-PUBLISHED-TTL:PT1H
BEGIN:VTIMEZONE
TZID:UTC
BEGIN:STANDARD
TZOFFSETFROM:+0000
TZOFFSETTO:+0000
TZNAME:UTC
DTSTART:20230101T000000
END:STANDARD
END:VTIMEZONE
BEGIN:VEVENT
DTSTART;TZID=UTC:20240603T180000
DTEND;TZID=UTC:20240603T193000
DTSTAMP:20260423T092047
CREATED:20240108T151623Z
LAST-MODIFIED:20240108T151623Z
UID:10000215-1717437600-1717443000@ausbildung.berlin
SUMMARY:Basiswissen für Eltern zum Studium
DESCRIPTION:Basiswissen für Eltern zum Studium\nEine Online-Veranstaltung der „ElternAkademie“ der Berufsberatungen Berlin und Brandenburg mit Expert*innen aus Wirtschaft\, Wissenschaft und Gesellschaft. Anmeldung unter www.elterngutinformiert.de
URL:https://ausbildung.berlin/event/basiswissen-fuer-eltern-zum-studium/
LOCATION:digital
ATTACH;FMTTYPE=image/jpeg:https://ausbildung.berlin/wp-content/uploads/2024/01/Ganz-leeres_ElternAkademie-Banner_BA-Logo-7.jpg
ORGANIZER;CN="ElternAkademie der Berufsberatungen in Berlin und Brandenburg":MAILTO:berlin-mitte.elterngutinformiert.de
END:VEVENT
BEGIN:VEVENT
DTSTART;TZID=UTC:20240612T180000
DTEND;TZID=UTC:20240612T193000
DTSTAMP:20260423T092047
CREATED:20240108T151649Z
LAST-MODIFIED:20240108T151649Z
UID:10000216-1718215200-1718220600@ausbildung.berlin
SUMMARY:Studieren probieren! Welche Möglichkeiten bietet ein Orientierungsstudium?
DESCRIPTION:Studieren probieren! Welche Möglichkeiten bietet ein Orientierungsstudium?\nEine Online-Veranstaltung der „ElternAkademie“ der Berufsberatungen Berlin und Brandenburg mit Expert*innen aus Wirtschaft\, Wissenschaft und Gesellschaft. Anmeldung unter www.elterngutinformiert.de
URL:https://ausbildung.berlin/event/studieren-probieren-welche-moeglichkeiten-bietet-ein-orientierungsstudium/
LOCATION:digital
ATTACH;FMTTYPE=image/jpeg:https://ausbildung.berlin/wp-content/uploads/2024/01/Ganz-leeres_ElternAkademie-Banner_BA-Logo-8.jpg
ORGANIZER;CN="ElternAkademie der Berufsberatungen in Berlin und Brandenburg":MAILTO:berlin-mitte.elterngutinformiert.de
END:VEVENT
END:VCALENDAR