BEGIN:VCALENDAR
VERSION:2.0
PRODID:-//ausbildung.berlin - ECPv6.15.20//NONSGML v1.0//EN
CALSCALE:GREGORIAN
METHOD:PUBLISH
X-ORIGINAL-URL:https://ausbildung.berlin
X-WR-CALDESC:Veranstaltungen für ausbildung.berlin
REFRESH-INTERVAL;VALUE=DURATION:PT1H
X-Robots-Tag:noindex
X-PUBLISHED-TTL:PT1H
BEGIN:VTIMEZONE
TZID:UTC
BEGIN:STANDARD
TZOFFSETFROM:+0000
TZOFFSETTO:+0000
TZNAME:UTC
DTSTART:20230101T000000
END:STANDARD
END:VTIMEZONE
BEGIN:VEVENT
DTSTART;TZID=UTC:20240305T090000
DTEND;TZID=UTC:20240305T160000
DTSTAMP:20260423T044020
CREATED:20240229T150210Z
LAST-MODIFIED:20240229T150210Z
UID:10000226-1709629200-1709654400@ausbildung.berlin
SUMMARY:Karriere Kick Berlin
DESCRIPTION:KICK(ER) Dich in Deine Karriere! Beim Karriere Kick trittst du spielerisch mit Deinen potenziellen Arbeitgebern in Kontakt und begegnest ihnen am Kickertisch auf Augenhöhe. In jeder Runde bekommst Du einen neuen Ausbilder zugelost\, mit dem Du im Team gemeinsam kickerst und Dich anschließend ganz entspannt über Themen wie Ausbildung und Beruf unterhältst. Am Kickertisch seid ihr per Du. Dies ermöglicht Dir einen besonders einfachen Einstieg für die weiterführenden Gespräche. Natürlich haben wir auch noch ein paar Tipps für Dich! \n\nNutze die Karriere-Kick-App und buche Dir einen Termin auf der Messe bei Deinen Lieblingsarbeitgebern! So wirst Du garantiert Deine Fragen los.\nAuf die Bewerbung\, fertig\, los! In der Karriere Kick-App kannst Du Dich direkt bei den Arbeitgebern bewerben für eine Ausbildung oder ein Praktikum.\nKomm am Nachmittag von 13:00 – 16:00 Uhr\, denn der Vormittags-Slot ist bereits ausgebucht. So kommst Du nach dem Kickermatch auch wirklich mit den Arbeitgebern ins Gespräch!\nLass auf dem Karriere Kick kostenfrei Deine Bewerbungsunterlagen von unserem Team der Passgenauen Besetzung checken und mache ebenfalls kostenfrei neue Bewerbungsfotos von Dir!
URL:https://ausbildung.berlin/event/karriere-kick-berlin-3/
LOCATION:IHK Berlin\, Fasanenstr. 85\, Berlin\, 10623\, Deutschland
ATTACH;FMTTYPE=image/jpeg:https://ausbildung.berlin/wp-content/uploads/2024/02/KK23Okt_Fotos_Berlin_KarriereKick-64-scaled.jpg
ORGANIZER;CN="Berlin Event Olaf Schulz &amp%3B Marco Worm OHG":MAILTO:info@berlinevent.de
END:VEVENT
BEGIN:VEVENT
DTSTART;TZID=UTC:20240306T180000
DTEND;TZID=UTC:20240306T193000
DTSTAMP:20260423T044020
CREATED:20240108T151548Z
LAST-MODIFIED:20240108T151548Z
UID:10000212-1709748000-1709753400@ausbildung.berlin
SUMMARY:Alles Zufall? Berufswahl zwischen Chaos und Struktur.
DESCRIPTION:Alles Zufall? Berufswahl zwischen Chaos und Struktur.\nEine Online-Veranstaltung der „ElternAkademie“ der Berufsberatungen Berlin und Brandenburg mit Expert*innen aus Wirtschaft\, Wissenschaft und Gesellschaft. Anmeldung unter www.elterngutinformiert.de
URL:https://ausbildung.berlin/event/alles-zufall-berufswahl-zwischen-chaos-und-struktur/
LOCATION:digital
ATTACH;FMTTYPE=image/jpeg:https://ausbildung.berlin/wp-content/uploads/2024/01/Ganz-leeres_ElternAkademie-Banner_BA-Logo-4.jpg
ORGANIZER;CN="ElternAkademie der Berufsberatungen in Berlin und Brandenburg":MAILTO:berlin-mitte.elterngutinformiert.de
END:VEVENT
BEGIN:VEVENT
DTSTART;TZID=UTC:20240311T180000
DTEND;TZID=UTC:20240311T190000
DTSTAMP:20260423T044020
CREATED:20240219T160837Z
LAST-MODIFIED:20240219T160837Z
UID:10000223-1710180000-1710183600@ausbildung.berlin
SUMMARY:Webinar: Wie finde ich ein Praktikum in einem Klimajob?
DESCRIPTION:In diesem Webinar geben Wirtschaftsvertreterinnen und -vertreter Tipps für die Praktikumssuche. Im Fokus stehen diesmal Energie- und Klimaberufe\, die nur zum Teil sichtbar sind. Wann: Montag\, 11. März 2024\, von 18:00 bis 19:00 Uhr Wo: digital via Cisco Webex Freut euch und freuen Sie sich auf die Expertise der UVB\, der Handwerkskammer Berlin\, der SHK-Innung\, der IHK Berlin und der Senatsbildungsverwaltung.
URL:https://ausbildung.berlin/event/webinar-wie-finde-ich-ein-praktikum-in-einem-klimajob/
LOCATION:Berlin
ATTACH;FMTTYPE=image/jpeg:https://ausbildung.berlin/wp-content/uploads/2024/02/693b73a2-9667-4da8-9040-3c7a45279055.jpg
END:VEVENT
BEGIN:VEVENT
DTSTART;TZID=UTC:20240316T100000
DTEND;TZID=UTC:20240316T130000
DTSTAMP:20260423T044020
CREATED:20231206T140951Z
LAST-MODIFIED:20231206T140951Z
UID:10000198-1710583200-1710594000@ausbildung.berlin
SUMMARY:Infotag am Samstag\, 16.03.2023 von 10-13 Uhr
DESCRIPTION:Unser nächster Infotag findet am Samstag\, den 16.03.2024 von 10-13 Uhr statt. Die Highlights:\n\nMappenberatung\nOffene Ateliers und Studios in Foto-Grafik-und Modedesign\nChemie zum Mitmachen\nVR-Lounge mit Escape-Room\nWorkshop in der Metallographie: Makrofotografie\nWorkshop im DIY-College: Makramee und “Mocktails” | Alkoholfreie Cocktails\nLive: Prüfung von Arzneimitteln\nInfos zum Vorbereitungskurs PTA\nRöntgen für Anfänger:innen\n\nMit Arbeitgeber-Messe “Ausbildung trifft Beruf” ATB Beratung für Studienabbrecher:innen und Neuzugewanderte mit Arbeits-\, Ausbildungs-\, oder Studienerfahrung \n\n\n\n\n\n\n\n\n\n\nHotline: 030-21994-111 Mail: sekretariat@letteverein.berlin Hier findest Du das ganze Infotags-Programm.
URL:https://ausbildung.berlin/event/infotag-am-samstag-16-03-2023-von-10-13-uhr/
LOCATION:Berufsausbildungszentrum Lette Verein Berlin\, Viktoria-Luise-Platz 6\, Berlin\, Berlin\, 10777\, Deutschland
ATTACH;FMTTYPE=image/png:https://ausbildung.berlin/wp-content/uploads/2023/11/Boempel_klein.png
ORGANIZER;CN="Berufsausbildungszentrum Lette Verein Berlin":MAILTO:f.sandmann@letteverein.berlin
END:VEVENT
END:VCALENDAR