BEGIN:VCALENDAR
VERSION:2.0
PRODID:-//ausbildung.berlin - ECPv6.15.20//NONSGML v1.0//EN
CALSCALE:GREGORIAN
METHOD:PUBLISH
X-WR-CALNAME:ausbildung.berlin
X-ORIGINAL-URL:https://ausbildung.berlin
X-WR-CALDESC:Veranstaltungen für ausbildung.berlin
REFRESH-INTERVAL;VALUE=DURATION:PT1H
X-Robots-Tag:noindex
X-PUBLISHED-TTL:PT1H
BEGIN:VTIMEZONE
TZID:UTC
BEGIN:STANDARD
TZOFFSETFROM:+0000
TZOFFSETTO:+0000
TZNAME:UTC
DTSTART:20230101T000000
END:STANDARD
END:VTIMEZONE
BEGIN:VEVENT
DTSTART;TZID=UTC:20240130T090000
DTEND;TZID=UTC:20240201T150000
DTSTAMP:20260423T031258
CREATED:20230921T125905Z
LAST-MODIFIED:20230921T125905Z
UID:10000197-1706605200-1706799600@ausbildung.berlin
SUMMARY:Kostenloser Workshop: "Lette Materials Lab 2024"
DESCRIPTION:Du willst herausfinden\, warum eine Sattelstange gebrochen ist oder wie eine verirrte Mücke in einem Handy aussieht? Dann melde Dich jetzt an! Der Ausbildungsgang Technische Assistentinnen und Assistenten für Metallographie und Werkstoffanalyse bietet im “Lette Materials Lab” vom 30.01.-01.02.2024 zum vierten Mal einen ganz besonderen kostenlosen Workshop an. Angeleitet von Profis aus Deutschland und Frankreich zerlegst Du ausgemusterte Geräte oder Bauteile und findest dann im Labor selbst heraus\, warum sie defekt sind. Du bekommst so einen ersten Einblick in den Beruf als Metallograph:in und kannst herausfinden\, ob diese Berufsausbildung etwas für Dich ist. Du musst nichts mitbringen: nur Dich selbst. Hier kannst Du den gesamten Plan für die drei Tage herunterladen.\n\n\n\n\n\n\n\n\n\n\nSolltest Du nicht aus Berlin kommen\, kümmern wir uns um eine passende Unterkunft für Dich. Für Verpflegung ist auch gesorgt. Fragen beantwortet unser Lehrer\, Michael Schleicher. m.schleicher@letteverein.berlin\n\n\n\n\n\n\n\n\n\n\n\n  Hier einfach online für das „Materials Lab“ anmelden
URL:https://ausbildung.berlin/event/kostenloser-workshop-lette-materials-lab-2024/
LOCATION:Berufsausbildungszentrum Lette Verein Berlin\, Viktoria-Luise-Platz 6\, Berlin\, Berlin\, 10777\, Deutschland
ATTACH;FMTTYPE=image/jpeg:https://ausbildung.berlin/wp-content/uploads/2023/09/LML_SchuelervorMonitor.jpg
ORGANIZER;CN="Berufsausbildungszentrum Lette Verein Berlin":MAILTO:f.sandmann@letteverein.berlin
END:VEVENT
BEGIN:VEVENT
DTSTART;TZID=UTC:20240208T130000
DTEND;TZID=UTC:20240208T170000
DTSTAMP:20260423T031258
CREATED:20240103T105423Z
LAST-MODIFIED:20240103T105423Z
UID:10000207-1707397200-1707411600@ausbildung.berlin
SUMMARY:Mit Herz und Hand - Pflegeausbildungsmesse
DESCRIPTION:Unsere Pflegeausbildungsmesse hat das Ziel\, Bewerberinnen und Bewerber als Interessenten mit potentiellen Arbeitgebern aus dem Pflegebereich zusammenzubringen. Eine Teilnahme bietet die Möglichkeit\, sich bei Ausbildungsbetrieben vorzustellen und Kontakte zu Arbeitgebern zu knüpfen. Von Praktikumsangeboten\, über die Vorstellung von Ausbildungsberufen und Karrierewegen in der Pflege\, bis hin zur Vereinbarung von konkreten Vorstellungsterminen haben Sie auch die Möglichkeit Ihren Arbeitgeber der Zukunft zu finden. Nutzen Sie Ihre Chance\, um Ihren Ausbildungsplatz im Pflegebereich zu finden! Im Rahmen der Veranstaltung wird es verschiedene Vorträge zu den Themen Altenpflege\, Gesundheits- und Krankenpflege/Kinderkrankenpflege und Weiterbildung – Qualifizierungschancengesetz geben. Zusätzlich steht die Berufsberatung für Fragen zur Verfügung. Sie befinden sich im aktuellen Schulentlassjahr\, suchen schon länger nach einer Ausbildung oder möchten sich beruflich verändern? Dann melden Sie sich gleich über den unten stehenden Link an.
URL:https://ausbildung.berlin/event/mit-herz-und-hand-pflegeausbildungsmesse/
LOCATION:Berufsinformationszentrum (BIZ) – Agentur für Arbeit Berlin Mitte\, Friedrichstraße 39\, Berlin\, Berlin\, 10969\, Deutschland
ATTACH;FMTTYPE=image/jpeg:https://ausbildung.berlin/wp-content/uploads/2023/12/adobestock-497998624-ba.high-res-scaled.jpg
ORGANIZER;CN="Agentur f%C3%BCr Arbeit Berlin Mitte":MAILTO:Berlin-Mitte.Messepostfach@arbeitsagentur.de
END:VEVENT
BEGIN:VEVENT
DTSTART;TZID=UTC:20240213T163000
DTEND;TZID=UTC:20240213T173000
DTSTAMP:20260423T031258
CREATED:20240125T080005Z
LAST-MODIFIED:20240125T080005Z
UID:10000219-1707841800-1707845400@ausbildung.berlin
SUMMARY:Ausbildung oder Studium? Erst probieren\, dann entscheiden!
DESCRIPTION:Ausbildung oder Studium? Finde heraus\, was am besten zu dir passt! Im «O ja! Orientierungsjahr» kannst du ein Jahr lang Ausbildungsberufe und Studiengänge in den Bereichen Umwelt\, Energie\, Digitalisierung und Technik kennenlernen und erproben. In zwei Semestern erhältst du zahlreiche praktische Einblicke in Studien- und Berufsfelder. Dabei besuchst du Lehrveranstaltungen in Fächern wie Physik\, Programmierung\, Mathematik oder Elektrotechnik. Berufspraktika ermöglichen es dir\, praktische Erfahrungen zu sammeln und den beruflichen Alltag kennenzulernen. Außerdem bringen wir dich in direkten Kontakt mit Auszubildenden\, Studierenden und Personen aus unterschiedlichsten Arbeitsfeldern. In Werkstätten\, Hörsälen\, Seminarräumen\, Laboren\, kleinen Handwerksbetrieben und großen Werkshallen erlebst du vor Ort\, welche vielfältigen Möglichkeiten es im MINT-Bereich gibt. Dabei wirst du intensiv durch Coaching- und Beratungsangebote unterstützt\, um schlussendlich die für dich richtige Entscheidung zu treffen. Die Teilnahme am «O ja! Orientierungsjahr» ist für dich kostenfrei\, und du bist während deiner Teilnahme an der HTW Berlin als Student*in eingeschrieben. Für den Programmstart im Sommersemester gibt es aktuell noch freie Plätze. Auf unseren kommenden Info-Veranstaltungen erfährst du\, was dich im Programm erwartet und wie das O ja! Orientierungsjahr dir bei der Orientierung helfen kann. Die Bewerbungsfrist für den April im April ist der 29.02.2024. Das Event findet hybrid statt: \n\nWilhelminenhofstr. 75A\, 12459 Berlin\, Campus Wilhelminenhof\, Raum G 124\nhttps://join.rz.htw-berlin.de/bbb/nad-yp6-ex9\neine Anmeldung vorab ist nicht nötig
URL:https://ausbildung.berlin/event/ausbildung-oder-studium-erst-probieren-dann-entscheiden-3/
LOCATION:Hochschule für Technik und Wirtschaft Berlin\, Campus Wilhelminenhof\, G 124\, Wilhelminenhofstraße 75A\, Berlin\, Berlin\, 12459\, Deutschland
ATTACH;FMTTYPE=image/jpeg:https://ausbildung.berlin/wp-content/uploads/2024/01/O-ja-Orientierungsjahr-Ausbildung-UND-Studium-1.jpg
ORGANIZER;CN="O ja! Orientierungsjahr":MAILTO:o-ja@hwk-berlin.de
END:VEVENT
BEGIN:VEVENT
DTSTART;TZID=UTC:20240216T063552
DTEND;TZID=UTC:20240216T063552
DTSTAMP:20260423T031258
CREATED:20240219T160818Z
LAST-MODIFIED:20240219T160818Z
UID:10000222-1708065352-1708065352@ausbildung.berlin
SUMMARY:Brandenburg sucht Dich! - Lerne spannende Ausbildungsbetriebe persönlich kennen.
DESCRIPTION:Sehr gerne möchten wir euch den direkten Kontakt zu spannenden Arbeitgebern außerhalb der Berliner Grenzen ermöglichen. Vom Mechatroniker\, über Chemielaboranten bis hin zu interessanten Tätigkeiten im Lager oder mit Holz gibt es auch im Berliner Umland viele engagierte Firmen\, die euch kennenlernen wollen. Rund um die Woche der Ausbildung vom 11. – 15.03.2024 haben daher wir für dich verschiedene Veranstaltungen bei Arbeitgebern im Raum Oberhavel und im Havelland organisiert.  Konkret kannst du Firmen in Oberhavel oder im Havelland persönlich kennenlernen\, Berufsbilder erkunden und dich natürlich auch direkt vor Ort bewerben. Bei Interesse melde dich ganz einfach bei deiner verantwortlichen Berufsberatung an deiner Schule oder wenn du nicht mehr zur Schule gehst\, telefonisch unter: Berlin: 030 5555 70 1919 Brandenburg: 03391 69 4000   Da es sich um verschiedene Einzeltermine handelt\, ist eine Anmeldung vorab notwendig. Folgende Termine wurden mit den Arbeitgebern vereinbart – wir freuen uns\, wenn etwas für dich dabei ist: 07.03.24\, 9 – 11 Uhr (Kfz.-Mechatroniker/in; Berufskraftfahrer/in) 11.03.24\, vormittags und nachmittags (Kaufmann/-frau Spedition und Logistikdienstleistung; Fachkraft Lagerlogistik) 12.03.24\, um 13:30 Uhr (Tischler/in) 12.03.24\, 10 – 12 Uhr (Chemielaborant/in; Mechatroniker/in; Mikrotechnolog/in) 12.03.24\, 10 – 12 Uhr (Anlagenmechaniker/in Sanitär-\, Heizungs-\, Klimatechnik; Konstruktionsmechaniker/in) 13.03.24\, 10 – 13 Uhr (Fachlagerist/in; Fachkraft Lagerlogistik) 14.03.24\, 9 – 11 Uhr und 13 – 15 Uhr (Kfz.-Mechatroniker/in – Nutzfahrzeuge; Berufskraftfahrer/in)  
URL:https://ausbildung.berlin/event/brandenburg-sucht-dich-lerne-spannende-ausbildungsbetriebe-persoenlich-kennen/
LOCATION:Berlin
ORGANIZER;CN="Agentur f&uuml%3Br Arbeit Berlin Nord":MAILTO:arbeitsagentur.de
END:VEVENT
BEGIN:VEVENT
DTSTART;TZID=UTC:20240219T163000
DTEND;TZID=UTC:20240219T173000
DTSTAMP:20260423T031258
CREATED:20240125T075942Z
LAST-MODIFIED:20240125T075942Z
UID:10000220-1708360200-1708363800@ausbildung.berlin
SUMMARY:Ausbildung oder Studium? Erst probieren\, dann entscheiden!
DESCRIPTION:Ausbildung oder Studium? Finde heraus\, was am besten zu dir passt! Im «O ja! Orientierungsjahr» kannst du ein Jahr lang Ausbildungsberufe und Studiengänge in den Bereichen Umwelt\, Energie\, Digitalisierung und Technik kennenlernen und erproben. In zwei Semestern erhältst du zahlreiche praktische Einblicke in Studien- und Berufsfelder. Dabei besuchst du Lehrveranstaltungen in Fächern wie Physik\, Programmierung\, Mathematik oder Elektrotechnik. Berufspraktika ermöglichen es dir\, praktische Erfahrungen zu sammeln und den beruflichen Alltag kennenzulernen. Außerdem bringen wir dich in direkten Kontakt mit Auszubildenden\, Studierenden und Personen aus unterschiedlichsten Arbeitsfeldern. In Werkstätten\, Hörsälen\, Seminarräumen\, Laboren\, kleinen Handwerksbetrieben und großen Werkshallen erlebst du vor Ort\, welche vielfältigen Möglichkeiten es im MINT-Bereich gibt. Dabei wirst du intensiv durch Coaching- und Beratungsangebote unterstützt\, um schlussendlich die für dich richtige Entscheidung zu treffen. Die Teilnahme am «O ja! Orientierungsjahr» ist für dich kostenfrei\, und du bist während deiner Teilnahme an der HTW Berlin als Student*in eingeschrieben. Für den Programmstart im Sommersemester gibt es aktuell noch freie Plätze. Auf unseren kommenden Info-Veranstaltungen erfährst du\, was dich im Programm erwartet und wie das O ja! Orientierungsjahr dir bei der Orientierung helfen kann. Die Bewerbungsfrist für den April im April ist der 29.02.2024. Das Event findet hybrid statt: \n\nWilhelminenhofstr. 75A\, 12459 Berlin\, Campus Wilhelminenhof\, Raum G 118\nhttps://join.rz.htw-berlin.de/bbb/nad-yp6-ex9\neine Anmeldung vorab ist nicht nötig
URL:https://ausbildung.berlin/event/ausbildung-oder-studium-erst-probieren-dann-entscheiden-2/
LOCATION:Hochschule für Technik und Wirtschaft Berlin\, Campus Wilhelminenhof\, G 118\, Wilhelminenhofstraße 75A\, Berlin\, Berlin\, 12459\, Deutschland
ATTACH;FMTTYPE=image/jpeg:https://ausbildung.berlin/wp-content/uploads/2024/01/O-ja-Orientierungsjahr-Ausbildung-UND-Studium-2.jpg
ORGANIZER;CN="O ja! Orientierungsjahr":MAILTO:o-ja@hwk-berlin.de
END:VEVENT
BEGIN:VEVENT
DTSTART;TZID=UTC:20240221T180000
DTEND;TZID=UTC:20240221T193000
DTSTAMP:20260423T031258
CREATED:20240108T151508Z
LAST-MODIFIED:20240108T151508Z
UID:10000209-1708538400-1708543800@ausbildung.berlin
SUMMARY:Wie unterstützt KI mein Kind bei Bewerbungsanschreiben? Chancen und Risiken
DESCRIPTION:Wie unterstützt KI mein Kind bei Bewerbungsanschreiben? Chancen und Risiken\nEine Online-Veranstaltung der „ElternAkademie“ der Berufsberatungen Berlin und Brandenburg mit Expert*innen aus Wirtschaft\, Wissenschaft und Gesellschaft. Anmeldung unter www.elterngutinformiert.de
URL:https://ausbildung.berlin/event/wie-unterstuetzt-ki-mein-kind-bei-bewerbungsanschreiben-chancen-und-risiken/
LOCATION:digital
ATTACH;FMTTYPE=image/jpeg:https://ausbildung.berlin/wp-content/uploads/2024/01/Ganz-leeres_ElternAkademie-Banner_BA-Logo-1.jpg
ORGANIZER;CN="ElternAkademie der Berufsberatungen in Berlin und Brandenburg":MAILTO:berlin-mitte.elterngutinformiert.de
END:VEVENT
BEGIN:VEVENT
DTSTART;TZID=UTC:20240228T180000
DTEND;TZID=UTC:20240228T193000
DTSTAMP:20260423T031258
CREATED:20240108T151536Z
LAST-MODIFIED:20240108T151536Z
UID:10000210-1709143200-1709148600@ausbildung.berlin
SUMMARY:Seelische Gesundheit im Jugendalter und Berufswahl
DESCRIPTION:Seelische Gesundheit im Jugendalter und Berufswahl\nEine Online-Veranstaltung der „ElternAkademie“ der Berufsberatungen Berlin und Brandenburg mit Expert*innen aus Wirtschaft\, Wissenschaft und Gesellschaft. Anmeldung unter www.elterngutinformiert.de
URL:https://ausbildung.berlin/event/seelische-gesundheit-im-jugendalter-und-berufswahl/
LOCATION:digital
ATTACH;FMTTYPE=image/jpeg:https://ausbildung.berlin/wp-content/uploads/2024/01/Ganz-leeres_ElternAkademie-Banner_BA-Logo-2.jpg
ORGANIZER;CN="ElternAkademie der Berufsberatungen in Berlin und Brandenburg":MAILTO:berlin-mitte.elterngutinformiert.de
END:VEVENT
BEGIN:VEVENT
DTSTART;TZID=UTC:20240229T153000
DTEND;TZID=UTC:20240229T163000
DTSTAMP:20260423T031258
CREATED:20240125T075842Z
LAST-MODIFIED:20240125T075842Z
UID:10000221-1709220600-1709224200@ausbildung.berlin
SUMMARY:Ausbildung oder Studium? Erst probieren\, dann entscheiden!
DESCRIPTION:Ausbildung oder Studium? Finde heraus\, was am besten zu dir passt! Im «O ja! Orientierungsjahr» kannst du ein Jahr lang Ausbildungsberufe und Studiengänge in den Bereichen Umwelt\, Energie\, Digitalisierung und Technik kennenlernen und erproben. In zwei Semestern erhältst du zahlreiche praktische Einblicke in Studien- und Berufsfelder. Dabei besuchst du Lehrveranstaltungen in Fächern wie Physik\, Programmierung\, Mathematik oder Elektrotechnik. Berufspraktika ermöglichen es dir\, praktische Erfahrungen zu sammeln und den beruflichen Alltag kennenzulernen. Außerdem bringen wir dich in direkten Kontakt mit Auszubildenden\, Studierenden und Personen aus unterschiedlichsten Arbeitsfeldern. In Werkstätten\, Hörsälen\, Seminarräumen\, Laboren\, kleinen Handwerksbetrieben und großen Werkshallen erlebst du vor Ort\, welche vielfältigen Möglichkeiten es im MINT-Bereich gibt. Dabei wirst du intensiv durch Coaching- und Beratungsangebote unterstützt\, um schlussendlich die für dich richtige Entscheidung zu treffen. Die Teilnahme am «O ja! Orientierungsjahr» ist für dich kostenfrei\, und du bist während deiner Teilnahme an der HTW Berlin als Student*in eingeschrieben. Für den Programmstart im Sommersemester gibt es aktuell noch freie Plätze. Auf unseren kommenden Info-Veranstaltungen erfährst du\, was dich im Programm erwartet und wie das O ja! Orientierungsjahr dir bei der Orientierung helfen kann. Die Bewerbungsfrist für den April im April ist der 29.02.2024. Das Event findet online statt: \n\nhttps://join.rz.htw-berlin.de/bbb/nad-yp6-ex9\neine Anmeldung vorab ist nicht nötig
URL:https://ausbildung.berlin/event/ausbildung-oder-studium-erst-probieren-dann-entscheiden/
LOCATION:Berlin
ATTACH;FMTTYPE=image/jpeg:https://ausbildung.berlin/wp-content/uploads/2024/01/O-ja-Orientierungsjahr-Ausbildung-UND-Studium-3.jpg
ORGANIZER;CN="O ja! Orientierungsjahr":MAILTO:o-ja@hwk-berlin.de
END:VEVENT
BEGIN:VEVENT
DTSTART;TZID=UTC:20240229T180000
DTEND;TZID=UTC:20240229T193000
DTSTAMP:20260423T031258
CREATED:20240108T151542Z
LAST-MODIFIED:20240108T151542Z
UID:10000211-1709229600-1709235000@ausbildung.berlin
SUMMARY:Ausbildung – der praktische Weg zum beruflichen Erfolg! Ein Elternabend mit Ausbildungsexpert*innen
DESCRIPTION:Ausbildung – der praktische Weg zum beruflichen Erfolg! Ein Elternabend mit Ausbildungsexpert*innen\nEine Online-Veranstaltung der „ElternAkademie“ der Berufsberatungen Berlin und Brandenburg mit Expert*innen aus Wirtschaft\, Wissenschaft und Gesellschaft. Anmeldung unter www.elterngutinformiert.de
URL:https://ausbildung.berlin/event/ausbildung-der-praktische-weg-zum-beruflichen-erfolg-ein-elternabend-mit-ausbildungsexpertinnen/
LOCATION:digital
ATTACH;FMTTYPE=image/jpeg:https://ausbildung.berlin/wp-content/uploads/2024/01/Ganz-leeres_ElternAkademie-Banner_BA-Logo-3.jpg
ORGANIZER;CN="ElternAkademie der Berufsberatungen in Berlin und Brandenburg":MAILTO:berlin-mitte.elterngutinformiert.de
END:VEVENT
END:VCALENDAR