BEGIN:VCALENDAR
VERSION:2.0
PRODID:-//ausbildung.berlin - ECPv6.15.20//NONSGML v1.0//EN
CALSCALE:GREGORIAN
METHOD:PUBLISH
X-WR-CALNAME:ausbildung.berlin
X-ORIGINAL-URL:https://ausbildung.berlin
X-WR-CALDESC:Veranstaltungen für ausbildung.berlin
REFRESH-INTERVAL;VALUE=DURATION:PT1H
X-Robots-Tag:noindex
X-PUBLISHED-TTL:PT1H
BEGIN:VTIMEZONE
TZID:UTC
BEGIN:STANDARD
TZOFFSETFROM:+0000
TZOFFSETTO:+0000
TZNAME:UTC
DTSTART:20220101T000000
END:STANDARD
END:VTIMEZONE
BEGIN:VEVENT
DTSTART;TZID=UTC:20231117T090000
DTEND;TZID=UTC:20240118T160000
DTSTAMP:20260422T230029
CREATED:20230904T122925Z
LAST-MODIFIED:20230904T122930Z
UID:10000195-1700211600-1705593600@ausbildung.berlin
SUMMARY:Einstieg Berlin
DESCRIPTION:  \nIn welche Richtung soll es nach dem Schulabschluss gehen: Studium? Ausbildung? Oder doch lieber erst mal ein Gap Year einlegen? Ein Besuch der Einstieg Berlin kann dir dabei helfen\, die Antwort darauf zu finden. Hier erwarten dich zahlreiche Aussteller:innen\, bei denen du dich über Ausbildungsplätze und duale Studiengänge informieren kannst. Verschiedene Hochschulen verraten dir wie ein Studium abläuft\, welche Inhalte dich erwarten und welche Job-Möglichkeiten du im Anschluss hast. Außerdem kannst du dir hier Infos zu Freiwilligendiensten und Auslandsaufenthalten einholen. Was dich auf der Einstieg Berlin erwartet: \n\nviele Mitmach-Stationen und Berufe zum Ausprobieren\nInspiration für deine Zukunft und eventuell sogar ein konkreter Ausbildungs- oder Studienplatz\nVorträge mit Infos zu Ausbildung\, Studium und mehr in der Speakers‘ Lounge\nein kostenloser Interessencheck mit Ausstellermatching\nThemenschwerpunkt: Karriere im öffentlichen Dienst\n\nKomm vorbei und nimm deine Zukunft in die Hand! Viel Spaß auf der Einstieg Berlin!
URL:https://ausbildung.berlin/event/einstieg-berlin/
LOCATION:Arena Berlin\, Techstr. 31\, Berlin\, 10781
ATTACH;FMTTYPE=image/jpeg:https://ausbildung.berlin/wp-content/uploads/2023/09/LinkedIn-Berlin-groesser-scaled.jpg
END:VEVENT
END:VCALENDAR