BEGIN:VCALENDAR
VERSION:2.0
PRODID:-//ausbildung.berlin - ECPv6.15.20//NONSGML v1.0//EN
CALSCALE:GREGORIAN
METHOD:PUBLISH
X-WR-CALNAME:ausbildung.berlin
X-ORIGINAL-URL:https://ausbildung.berlin
X-WR-CALDESC:Veranstaltungen für ausbildung.berlin
REFRESH-INTERVAL;VALUE=DURATION:PT1H
X-Robots-Tag:noindex
X-PUBLISHED-TTL:PT1H
BEGIN:VTIMEZONE
TZID:UTC
BEGIN:STANDARD
TZOFFSETFROM:+0000
TZOFFSETTO:+0000
TZNAME:UTC
DTSTART:20240101T000000
END:STANDARD
END:VTIMEZONE
BEGIN:VEVENT
DTSTART;TZID=UTC:20250327T140000
DTEND;TZID=UTC:20250327T170000
DTSTAMP:20260424T085739
CREATED:20250206T110452Z
LAST-MODIFIED:20250206T110452Z
UID:10000248-1743084000-1743094800@ausbildung.berlin
SUMMARY:Zukunft gestalten in Spandau - Messe im Klubhaus Spandau am 27.03.2025
DESCRIPTION:Nutz deine Chance und komm vorbei! – Ausbildungsmesse im Klubhaus Spandau Am 27.03.2025 von 14 – 17 Uhr Westerwaldstr. 13\, 13589 Berlin Du suchst nach einer freien Ausbildungsstelle oder auch einfach erst mal ein Praktikum? Möchtest du dich zu einem möglichen Plan B informieren? Dann ist unsere Messe der richtige Ort dafür. Mit unseren Partnern der Jugendberufsagentur stehen wir dir zusätzlich auch mit unserer Beratung zur Verfügung. Events können vor Ort direkt ausprobiert werden: \n\nVirtual Reality Erlebnis mit unseren VR Brillen von „Dein erster Tag“ (in der Ausbildung)\nUnterstützung bei der Erstellung von Bewerbungen\nLass dich beraten von unseren Expert*innen der Jugendberufsagentur\nDirekter Kontakt zur Handwerkskammer Berlin und der Industrie- und Handelskammer in Berlin und Brandenburg
URL:https://ausbildung.berlin/event/zukunft-gestalten-in-spandau-messe-im-klubhaus-spandau-am-27-03-2025/
LOCATION:Klubhaus Spandau\, Westerwaldstr. 13\, Berlin\, Berlin\, 13589\, Deutschland
ATTACH;FMTTYPE=image/png:https://ausbildung.berlin/wp-content/uploads/2025/02/Banner-JBA-Kids_WdA.png
ORGANIZER;CN="Agentur f&uuml%3Br Arbeit Berlin Nord":MAILTO:arbeitsagentur.de
END:VEVENT
END:VCALENDAR