BEGIN:VCALENDAR
VERSION:2.0
PRODID:-//ausbildung.berlin - ECPv6.15.20//NONSGML v1.0//EN
CALSCALE:GREGORIAN
METHOD:PUBLISH
X-WR-CALNAME:ausbildung.berlin
X-ORIGINAL-URL:https://ausbildung.berlin
X-WR-CALDESC:Veranstaltungen für ausbildung.berlin
REFRESH-INTERVAL;VALUE=DURATION:PT1H
X-Robots-Tag:noindex
X-PUBLISHED-TTL:PT1H
BEGIN:VTIMEZONE
TZID:UTC
BEGIN:STANDARD
TZOFFSETFROM:+0000
TZOFFSETTO:+0000
TZNAME:UTC
DTSTART:20240101T000000
END:STANDARD
END:VTIMEZONE
BEGIN:VEVENT
DTSTART;TZID=UTC:20250320T100000
DTEND;TZID=UTC:20250320T140000
DTSTAMP:20260424T060022
CREATED:20250226T142617Z
LAST-MODIFIED:20250226T143751Z
UID:10000250-1742464800-1742479200@ausbildung.berlin
SUMMARY:Zweijährige Berufe Messe
DESCRIPTION:Am 20. März 2025 findet die 1. Berufsmesse für 2-jährige Ausbildungsberufe statt. Nutze die Chance um verschiedene spannende Ausbildungsunternehmen und ihre Berufe kennenzulernen! Erfahre mehr über Berufe wie Verkäufer/in\, Fachlagerist/in\, Fahrradmonteur/in und viele weitere spannende Ausbildungsberufe. Nutze die Chance\, dich über Ausbildungsinhalte\, Karrieremöglichkeiten und die passenden Betriebe zu informieren. 
URL:https://ausbildung.berlin/event/zweijaehrige-berufe-messe/
LOCATION:IHK Berlin\, Fasanenstr. 85\, Berlin\, 10623\, Deutschland
ATTACH;FMTTYPE=image/jpeg:https://ausbildung.berlin/wp-content/uploads/2025/02/c4635210-1e78-4f6d-bc3a-9909b7e49024.jpg
ORGANIZER;CN="IHK Berlin":MAILTO:fabian.baehr@berlin.ihk.de
END:VEVENT
END:VCALENDAR