BEGIN:VCALENDAR
VERSION:2.0
PRODID:-//ausbildung.berlin - ECPv6.15.20//NONSGML v1.0//EN
CALSCALE:GREGORIAN
METHOD:PUBLISH
X-WR-CALNAME:ausbildung.berlin
X-ORIGINAL-URL:https://ausbildung.berlin
X-WR-CALDESC:Veranstaltungen für ausbildung.berlin
REFRESH-INTERVAL;VALUE=DURATION:PT1H
X-Robots-Tag:noindex
X-PUBLISHED-TTL:PT1H
BEGIN:VTIMEZONE
TZID:UTC
BEGIN:STANDARD
TZOFFSETFROM:+0000
TZOFFSETTO:+0000
TZNAME:UTC
DTSTART:20240101T000000
END:STANDARD
END:VTIMEZONE
BEGIN:VEVENT
DTSTART;TZID=UTC:20250314T090000
DTEND;TZID=UTC:20250314T130000
DTSTAMP:20260424T025620
CREATED:20250226T133313Z
LAST-MODIFIED:20250226T143138Z
UID:10000249-1741942800-1741957200@ausbildung.berlin
SUMMARY:Schmeckt dir Gastro Ausbildungsmesse
DESCRIPTION:Du wolltest schon immer mal die Gastrobranche kennenlernen? Bei unserer Schmeckt Dir Gastro Ausbildungsmesse wird dir von Auszubildenden gezeigt\, was dich beruflich in der Branche erwartet: Action in der Küche und im Service. Und Unternehmen treffen\, die dich kennenlernen wollen! Melde dich hier an für einen kostenfreien Platz! Alles was du brauchst ist Interesse für die Gastronomiebranche und deine Bewerbungsunterlagen. Du wirst durch drei Stationen geführt: \n\nIn unserer Profiküche kochst du ein Gericht und wirst dabei von erfahrenen Auszubildenden angeleitet.\nDann geht es in den Servicebereich\, wo du von Servicekräften in Ausbildung erste Einblicke kriegst.\nAls letzte Station sind 15 Unternehmen bei uns\, um dich kennenzulernen und über deine Ausbildungsperspektiven bei Ihnen zu sprechen.
URL:https://ausbildung.berlin/event/schmeckt-dir-gastro-ausbildungsmesse/
LOCATION:IHK Berlin\, Fasanenstr. 85\, Berlin\, 10623\, Deutschland
ATTACH;FMTTYPE=image/jpeg:https://ausbildung.berlin/wp-content/uploads/2025/02/875c2cfe-112e-43b2-8487-a1e6e6f34d9e.jpg
ORGANIZER;CN="IHK Berlin":MAILTO:fabian.baehr@berlin.ihk.de
END:VEVENT
END:VCALENDAR