BEGIN:VCALENDAR
VERSION:2.0
PRODID:-//ausbildung.berlin - ECPv6.15.20//NONSGML v1.0//EN
CALSCALE:GREGORIAN
METHOD:PUBLISH
X-WR-CALNAME:ausbildung.berlin
X-ORIGINAL-URL:https://ausbildung.berlin
X-WR-CALDESC:Veranstaltungen für ausbildung.berlin
REFRESH-INTERVAL;VALUE=DURATION:PT1H
X-Robots-Tag:noindex
X-PUBLISHED-TTL:PT1H
BEGIN:VTIMEZONE
TZID:UTC
BEGIN:STANDARD
TZOFFSETFROM:+0000
TZOFFSETTO:+0000
TZNAME:UTC
DTSTART:20240101T000000
END:STANDARD
END:VTIMEZONE
BEGIN:VEVENT
DTSTART;TZID=UTC:20250312T180000
DTEND;TZID=UTC:20250312T193000
DTSTAMP:20260423T235722
CREATED:20250116T155937Z
LAST-MODIFIED:20250116T155937Z
UID:10000239-1741802400-1741807800@ausbildung.berlin
SUMMARY:Hilfe\, ich empfinde den Bewerbungsprozess meines Kindes als chaotisch! Darf das so sein? Arbeitgeber und Berufsberatung widmen sich diesem Thema
DESCRIPTION:Liebe Eltern\, wir laden Sie herzlich ein und informieren Sie zu allen Themen\, die wichtig werden\, wenn Ihre Kinder die Schule beenden. Eine Online-Veranstaltung der „ElternAkademie“ der Berufsberatung der Agenturen für Arbeit in Berlin und Brandenburg. Anmeldung einfach über www.elterngutinformiert.de.
URL:https://ausbildung.berlin/event/hilfe-ich-empfinde-den-bewerbungsprozess-meines-kindes-als-chaotisch-darf-das-so-sein-arbeitgeber-und-berufsberatung-widmen-sich-diesem-thema/
LOCATION:digital
ATTACH;FMTTYPE=image/jpeg:https://ausbildung.berlin/wp-content/uploads/2024/12/Mini-Logo-EA-quadratisch-1.jpg
ORGANIZER;CN="ElternAkademie der Berufsberatungen in Berlin und Brandenburg":MAILTO:berlin-mitte.elterngutinformiert.de
END:VEVENT
END:VCALENDAR