BEGIN:VCALENDAR
VERSION:2.0
PRODID:-//ausbildung.berlin - ECPv6.15.20//NONSGML v1.0//EN
CALSCALE:GREGORIAN
METHOD:PUBLISH
X-WR-CALNAME:ausbildung.berlin
X-ORIGINAL-URL:https://ausbildung.berlin
X-WR-CALDESC:Veranstaltungen für ausbildung.berlin
REFRESH-INTERVAL;VALUE=DURATION:PT1H
X-Robots-Tag:noindex
X-PUBLISHED-TTL:PT1H
BEGIN:VTIMEZONE
TZID:UTC
BEGIN:STANDARD
TZOFFSETFROM:+0000
TZOFFSETTO:+0000
TZNAME:UTC
DTSTART:20230101T000000
END:STANDARD
END:VTIMEZONE
BEGIN:VEVENT
DTSTART;TZID=UTC:20241121T180000
DTEND;TZID=UTC:20241121T193000
DTSTAMP:20260423T163320
CREATED:20241024T134554Z
LAST-MODIFIED:20241024T134554Z
UID:10000235-1732212000-1732217400@ausbildung.berlin
SUMMARY:Digitaler Elternabend: Gap Year im Ausland - nach der Schule die Welt entdecken!
DESCRIPTION:Liebe Eltern\, wir laden Sie herzlich ein und informieren Sie zu allen Themen\, die wichtig werden\, wenn Ihre Kinder die Schule beenden. Bei dieser Veranstaltung das Thema: Gap Year im Ausland – nach der Schule die Welt entdecken! Die Veranstaltung findet online von 18:00 bis 19:30 Uhr statt.\nAnmeldung einfach über www.elterngutinformiert.de.
URL:https://ausbildung.berlin/event/digitaler-elternabend-gap-year-im-ausland-nach-der-schule-die-welt-entdecken/
LOCATION:digital
ATTACH;FMTTYPE=image/jpeg:https://ausbildung.berlin/wp-content/uploads/2024/10/EA-Logo.jpg
ORGANIZER;CN="ElternAkademie der Berufsberatungen in Berlin und Brandenburg":MAILTO:berlin-mitte.elterngutinformiert.de
END:VEVENT
END:VCALENDAR