BEGIN:VCALENDAR
VERSION:2.0
PRODID:-//ausbildung.berlin - ECPv6.15.20//NONSGML v1.0//EN
CALSCALE:GREGORIAN
METHOD:PUBLISH
X-ORIGINAL-URL:https://ausbildung.berlin
X-WR-CALDESC:Veranstaltungen für ausbildung.berlin
REFRESH-INTERVAL;VALUE=DURATION:PT1H
X-Robots-Tag:noindex
X-PUBLISHED-TTL:PT1H
BEGIN:VTIMEZONE
TZID:UTC
BEGIN:STANDARD
TZOFFSETFROM:+0000
TZOFFSETTO:+0000
TZNAME:UTC
DTSTART:20230101T000000
END:STANDARD
END:VTIMEZONE
BEGIN:VEVENT
DTSTART;TZID=UTC:20241009T120000
DTEND;TZID=UTC:20241009T140000
DTSTAMP:20260423T151832
CREATED:20240911T124921Z
LAST-MODIFIED:20240911T124921Z
UID:10000231-1728475200-1728482400@ausbildung.berlin
SUMMARY:Mini-Infotag für Eltern\, Lehrkräfte und Schüler:innen im Rahmen der #excitingedu 2024
DESCRIPTION:Am 09.10.204: Berufsorientierung zum Anfassen beim Lette Verein auf der #excitingedu 2024\nIm Rahmen der #excitingedu 2024\, dem Bildungskongress und Barcamp\, bietet der Lette Verein ein exklusives Programm für\n\nEltern\nLehrkräfte und\nSchüler:innen\n\nam 09.10.2024 in der Zeit von 12-14 Uhr an. Hier dreht sich alles um praxisnahe Berufsorientierung und zukunftsweisende Ausbildungswege. Stärken Sie Ihr Team und erleben Sie gemeinsam einen einzigartigen Tag! Lehrkräfte sind herzlich eingeladen\, allein oder zusammen mit ihren Schüler:innen der 9.-11. Klassen an diesem besonderen Event teilzunehmen. Nutzen Sie diese Gelegenheit\, um als Team zu wachsen und neue Impulse für den Unterricht mitzunehmen. Achtung: Die Plätze sind begrenzt! Sichern Sie sich jetzt Ihren Platz und melden Sie sich kostenlos an. Nach Ihrer Anmeldung erhalten Sie eine Bestätigung.\n\n\n\n\n\n\n\n\n\n\n\n  Hier für den Mini-Infotag kostenlos anmelden!
URL:https://ausbildung.berlin/event/mini-infotag-fuer-eltern-lehrkraefte-und-schuelerinnen-im-rahmen-der-excitingedu-2024/
LOCATION:Berufsausbildungszentrum Lette Verein Berlin\, Viktoria-Luise-Platz 6\, Berlin\, Berlin\, 10777\, Deutschland
ORGANIZER;CN="Berufsausbildungszentrum Lette Verein Berlin":MAILTO:f.sandmann@letteverein.berlin
END:VEVENT
END:VCALENDAR