BEGIN:VCALENDAR
VERSION:2.0
PRODID:-//ausbildung.berlin - ECPv6.15.20//NONSGML v1.0//EN
CALSCALE:GREGORIAN
METHOD:PUBLISH
X-WR-CALNAME:ausbildung.berlin
X-ORIGINAL-URL:https://ausbildung.berlin
X-WR-CALDESC:Veranstaltungen für ausbildung.berlin
REFRESH-INTERVAL;VALUE=DURATION:PT1H
X-Robots-Tag:noindex
X-PUBLISHED-TTL:PT1H
BEGIN:VTIMEZONE
TZID:UTC
BEGIN:STANDARD
TZOFFSETFROM:+0000
TZOFFSETTO:+0000
TZNAME:UTC
DTSTART:20230101T000000
END:STANDARD
END:VTIMEZONE
BEGIN:VEVENT
DTSTART;TZID=UTC:20241008T180000
DTEND;TZID=UTC:20241008T210000
DTSTAMP:20260423T151221
CREATED:20240910T144423Z
LAST-MODIFIED:20240910T144423Z
UID:10000230-1728410400-1728421200@ausbildung.berlin
SUMMARY:Wege in die Ausbildung (WidA) - Infoveranstaltung für Eltern
DESCRIPTION:Mit der Schule fertig – und dann? Wir informieren\, Sie fragen\, Unternehmen antworten! Duale Ausbildung\, duales Studium und mehr. Angebote und Tipps zum Übergang Schule-Beruf. Wir freuen uns auf Ihren Besuch im Hermann-Ehlers-Haus (Alt-Wittenau 71-72\, 13437 Berlin) am Dienstag\, den 8. Oktober ab 18 Uhr. Zahlreiche Ausbildungsbetriebe freuen sich darauf\, sich Ihnen vorstellen zu dürfen. Das Projekt „WidA Reinickendorf“ wird im Auftrag des Bezirksamtes Reinickendorf durchgeführt und wird gefördert aus Mitteln der Senatsverwaltung für Arbeit\, Soziales\, Gleichstellung\, Integration\, Vielfalt und Antidiskriminierung.
URL:https://ausbildung.berlin/event/wege-in-die-ausbildung-wida-infoveranstaltung-fuer-eltern/
LOCATION:Hermann-Ehlers-Haus\, Alt-Wittenau 71-72\, Berlin\, 13437\, Deutschland
ATTACH;FMTTYPE=image/png:https://ausbildung.berlin/wp-content/uploads/2024/09/WidA2024.png
END:VEVENT
END:VCALENDAR