BEGIN:VCALENDAR
VERSION:2.0
PRODID:-//ausbildung.berlin - ECPv6.15.20//NONSGML v1.0//EN
CALSCALE:GREGORIAN
METHOD:PUBLISH
X-WR-CALNAME:ausbildung.berlin
X-ORIGINAL-URL:https://ausbildung.berlin
X-WR-CALDESC:Veranstaltungen für ausbildung.berlin
REFRESH-INTERVAL;VALUE=DURATION:PT1H
X-Robots-Tag:noindex
X-PUBLISHED-TTL:PT1H
BEGIN:VTIMEZONE
TZID:UTC
BEGIN:STANDARD
TZOFFSETFROM:+0000
TZOFFSETTO:+0000
TZNAME:UTC
DTSTART:20230101T000000
END:STANDARD
END:VTIMEZONE
BEGIN:VEVENT
DTSTART;TZID=UTC:20240530T180000
DTEND;TZID=UTC:20240530T193000
DTSTAMP:20260423T090804
CREATED:20240108T151617Z
LAST-MODIFIED:20240108T151617Z
UID:10000214-1717092000-1717097400@ausbildung.berlin
SUMMARY:Plan B – was ist\, wenn mein Kind nichts findet oder wenn mein Kind nichts tut\, um etwas zu finden?
DESCRIPTION:Plan B – was ist\, wenn mein Kind nichts findet oder wenn mein Kind nichts tut\, um etwas zu finden?\nEine Online-Veranstaltung der „ElternAkademie“ der Berufsberatungen Berlin und Brandenburg mit Expert*innen aus Wirtschaft\, Wissenschaft und Gesellschaft. Anmeldung unter www.elterngutinformiert.de
URL:https://ausbildung.berlin/event/plan-b-was-ist-wenn-mein-kind-nichts-findet-oder-wenn-mein-kind-nichts-tut-um-etwas-zu-finden/
LOCATION:digital
ATTACH;FMTTYPE=image/jpeg:https://ausbildung.berlin/wp-content/uploads/2024/01/Ganz-leeres_ElternAkademie-Banner_BA-Logo-6.jpg
ORGANIZER;CN="ElternAkademie der Berufsberatungen in Berlin und Brandenburg":MAILTO:berlin-mitte.elterngutinformiert.de
END:VEVENT
END:VCALENDAR