BEGIN:VCALENDAR
VERSION:2.0
PRODID:-//ausbildung.berlin - ECPv6.15.20//NONSGML v1.0//EN
CALSCALE:GREGORIAN
METHOD:PUBLISH
X-ORIGINAL-URL:https://ausbildung.berlin
X-WR-CALDESC:Veranstaltungen für ausbildung.berlin
REFRESH-INTERVAL;VALUE=DURATION:PT1H
X-Robots-Tag:noindex
X-PUBLISHED-TTL:PT1H
BEGIN:VTIMEZONE
TZID:UTC
BEGIN:STANDARD
TZOFFSETFROM:+0000
TZOFFSETTO:+0000
TZNAME:UTC
DTSTART:20230101T000000
END:STANDARD
END:VTIMEZONE
BEGIN:VEVENT
DTSTART;TZID=UTC:20240515T100000
DTEND;TZID=UTC:20240515T143000
DTSTAMP:20260423T091459
CREATED:20240229T090906Z
LAST-MODIFIED:20240502T072731Z
UID:10000225-1715767200-1715783400@ausbildung.berlin
SUMMARY:Mach Dein Ding – Aktionstag Ausbildung Tempelhof-Schöneberg
DESCRIPTION:Unter dem Motto „Mach Dein Ding“ laden wir auch in diesem Jahr wieder Jugendliche der 8.-12. Klassen und Personen im zweiten Anlauf aus Tempelhof-Schöneberg und angrenzenden Bezirken ein\, eine Vielfalt von Ausbildungsberufen kennenzulernen. Viele Unternehmen werden ihre Praktikums-\, Ausbildungs- und duale Studienplätze mit vielen Aktionen aus dem Sportplatz vorstellen. Sie alle freuen sich auf interessierte Jugendliche aber auch Eltern\, Großeltern und alle Ratgebenden am Übergang Schule-Ausbildung sind herzlich eingeladen. Auch in diesem Jahr findet der Aktionstag auf dem Dominicus Sportplatz statt. Organisiert wird der Aktionstag von der Wirtschaftsförderung\, der JBA Tempelhof-Schöneberg und dem Netzwerk Ausbildung unter Schirmherrschaft von Bezirksbürgermeister Jörn Oltmann.  
URL:https://ausbildung.berlin/event/mach-dein-ding-aktionstag-ausbildung-tempelhof-schoeneberg/
LOCATION:Dominicus-Sportplatz\, Priesterweg 3\, Berlin\, 10829
ATTACH;FMTTYPE=image/png:https://ausbildung.berlin/wp-content/uploads/2024/02/MdD.png
END:VEVENT
END:VCALENDAR