BEGIN:VCALENDAR
VERSION:2.0
PRODID:-//ausbildung.berlin - ECPv6.15.20//NONSGML v1.0//EN
CALSCALE:GREGORIAN
METHOD:PUBLISH
X-ORIGINAL-URL:https://ausbildung.berlin
X-WR-CALDESC:Veranstaltungen für ausbildung.berlin
REFRESH-INTERVAL;VALUE=DURATION:PT1H
X-Robots-Tag:noindex
X-PUBLISHED-TTL:PT1H
BEGIN:VTIMEZONE
TZID:UTC
BEGIN:STANDARD
TZOFFSETFROM:+0000
TZOFFSETTO:+0000
TZNAME:UTC
DTSTART:20230101T000000
END:STANDARD
END:VTIMEZONE
BEGIN:VEVENT
DTSTART;TZID=UTC:20240229T153000
DTEND;TZID=UTC:20240229T163000
DTSTAMP:20260423T062117
CREATED:20240125T075842Z
LAST-MODIFIED:20240125T075842Z
UID:10000221-1709220600-1709224200@ausbildung.berlin
SUMMARY:Ausbildung oder Studium? Erst probieren\, dann entscheiden!
DESCRIPTION:Ausbildung oder Studium? Finde heraus\, was am besten zu dir passt! Im «O ja! Orientierungsjahr» kannst du ein Jahr lang Ausbildungsberufe und Studiengänge in den Bereichen Umwelt\, Energie\, Digitalisierung und Technik kennenlernen und erproben. In zwei Semestern erhältst du zahlreiche praktische Einblicke in Studien- und Berufsfelder. Dabei besuchst du Lehrveranstaltungen in Fächern wie Physik\, Programmierung\, Mathematik oder Elektrotechnik. Berufspraktika ermöglichen es dir\, praktische Erfahrungen zu sammeln und den beruflichen Alltag kennenzulernen. Außerdem bringen wir dich in direkten Kontakt mit Auszubildenden\, Studierenden und Personen aus unterschiedlichsten Arbeitsfeldern. In Werkstätten\, Hörsälen\, Seminarräumen\, Laboren\, kleinen Handwerksbetrieben und großen Werkshallen erlebst du vor Ort\, welche vielfältigen Möglichkeiten es im MINT-Bereich gibt. Dabei wirst du intensiv durch Coaching- und Beratungsangebote unterstützt\, um schlussendlich die für dich richtige Entscheidung zu treffen. Die Teilnahme am «O ja! Orientierungsjahr» ist für dich kostenfrei\, und du bist während deiner Teilnahme an der HTW Berlin als Student*in eingeschrieben. Für den Programmstart im Sommersemester gibt es aktuell noch freie Plätze. Auf unseren kommenden Info-Veranstaltungen erfährst du\, was dich im Programm erwartet und wie das O ja! Orientierungsjahr dir bei der Orientierung helfen kann. Die Bewerbungsfrist für den April im April ist der 29.02.2024. Das Event findet online statt: \n\nhttps://join.rz.htw-berlin.de/bbb/nad-yp6-ex9\neine Anmeldung vorab ist nicht nötig
URL:https://ausbildung.berlin/event/ausbildung-oder-studium-erst-probieren-dann-entscheiden/
LOCATION:Berlin
ATTACH;FMTTYPE=image/jpeg:https://ausbildung.berlin/wp-content/uploads/2024/01/O-ja-Orientierungsjahr-Ausbildung-UND-Studium-3.jpg
ORGANIZER;CN="O ja! Orientierungsjahr":MAILTO:o-ja@hwk-berlin.de
END:VEVENT
BEGIN:VEVENT
DTSTART;TZID=UTC:20240229T180000
DTEND;TZID=UTC:20240229T193000
DTSTAMP:20260423T062117
CREATED:20240108T151542Z
LAST-MODIFIED:20240108T151542Z
UID:10000211-1709229600-1709235000@ausbildung.berlin
SUMMARY:Ausbildung – der praktische Weg zum beruflichen Erfolg! Ein Elternabend mit Ausbildungsexpert*innen
DESCRIPTION:Ausbildung – der praktische Weg zum beruflichen Erfolg! Ein Elternabend mit Ausbildungsexpert*innen\nEine Online-Veranstaltung der „ElternAkademie“ der Berufsberatungen Berlin und Brandenburg mit Expert*innen aus Wirtschaft\, Wissenschaft und Gesellschaft. Anmeldung unter www.elterngutinformiert.de
URL:https://ausbildung.berlin/event/ausbildung-der-praktische-weg-zum-beruflichen-erfolg-ein-elternabend-mit-ausbildungsexpertinnen/
LOCATION:digital
ATTACH;FMTTYPE=image/jpeg:https://ausbildung.berlin/wp-content/uploads/2024/01/Ganz-leeres_ElternAkademie-Banner_BA-Logo-3.jpg
ORGANIZER;CN="ElternAkademie der Berufsberatungen in Berlin und Brandenburg":MAILTO:berlin-mitte.elterngutinformiert.de
END:VEVENT
END:VCALENDAR