BEGIN:VCALENDAR
VERSION:2.0
PRODID:-//ausbildung.berlin - ECPv6.15.20//NONSGML v1.0//EN
CALSCALE:GREGORIAN
METHOD:PUBLISH
X-ORIGINAL-URL:https://ausbildung.berlin
X-WR-CALDESC:Veranstaltungen für ausbildung.berlin
REFRESH-INTERVAL;VALUE=DURATION:PT1H
X-Robots-Tag:noindex
X-PUBLISHED-TTL:PT1H
BEGIN:VTIMEZONE
TZID:UTC
BEGIN:STANDARD
TZOFFSETFROM:+0000
TZOFFSETTO:+0000
TZNAME:UTC
DTSTART:20230101T000000
END:STANDARD
END:VTIMEZONE
BEGIN:VEVENT
DTSTART;TZID=UTC:20240208T130000
DTEND;TZID=UTC:20240208T170000
DTSTAMP:20260423T043928
CREATED:20240103T105423Z
LAST-MODIFIED:20240103T105423Z
UID:10000207-1707397200-1707411600@ausbildung.berlin
SUMMARY:Mit Herz und Hand - Pflegeausbildungsmesse
DESCRIPTION:Unsere Pflegeausbildungsmesse hat das Ziel\, Bewerberinnen und Bewerber als Interessenten mit potentiellen Arbeitgebern aus dem Pflegebereich zusammenzubringen. Eine Teilnahme bietet die Möglichkeit\, sich bei Ausbildungsbetrieben vorzustellen und Kontakte zu Arbeitgebern zu knüpfen. Von Praktikumsangeboten\, über die Vorstellung von Ausbildungsberufen und Karrierewegen in der Pflege\, bis hin zur Vereinbarung von konkreten Vorstellungsterminen haben Sie auch die Möglichkeit Ihren Arbeitgeber der Zukunft zu finden. Nutzen Sie Ihre Chance\, um Ihren Ausbildungsplatz im Pflegebereich zu finden! Im Rahmen der Veranstaltung wird es verschiedene Vorträge zu den Themen Altenpflege\, Gesundheits- und Krankenpflege/Kinderkrankenpflege und Weiterbildung – Qualifizierungschancengesetz geben. Zusätzlich steht die Berufsberatung für Fragen zur Verfügung. Sie befinden sich im aktuellen Schulentlassjahr\, suchen schon länger nach einer Ausbildung oder möchten sich beruflich verändern? Dann melden Sie sich gleich über den unten stehenden Link an.
URL:https://ausbildung.berlin/event/mit-herz-und-hand-pflegeausbildungsmesse/
LOCATION:Berufsinformationszentrum (BIZ) – Agentur für Arbeit Berlin Mitte\, Friedrichstraße 39\, Berlin\, Berlin\, 10969\, Deutschland
ATTACH;FMTTYPE=image/jpeg:https://ausbildung.berlin/wp-content/uploads/2023/12/adobestock-497998624-ba.high-res-scaled.jpg
ORGANIZER;CN="Agentur f%C3%BCr Arbeit Berlin Mitte":MAILTO:Berlin-Mitte.Messepostfach@arbeitsagentur.de
END:VEVENT
END:VCALENDAR