BEGIN:VCALENDAR
VERSION:2.0
PRODID:-//ausbildung.berlin - ECPv6.15.20//NONSGML v1.0//EN
CALSCALE:GREGORIAN
METHOD:PUBLISH
X-WR-CALNAME:ausbildung.berlin
X-ORIGINAL-URL:https://ausbildung.berlin
X-WR-CALDESC:Veranstaltungen für ausbildung.berlin
REFRESH-INTERVAL;VALUE=DURATION:PT1H
X-Robots-Tag:noindex
X-PUBLISHED-TTL:PT1H
BEGIN:VTIMEZONE
TZID:UTC
BEGIN:STANDARD
TZOFFSETFROM:+0000
TZOFFSETTO:+0000
TZNAME:UTC
DTSTART:20230101T000000
END:STANDARD
END:VTIMEZONE
BEGIN:VEVENT
DTSTART;TZID=UTC:20240130T090000
DTEND;TZID=UTC:20240201T150000
DTSTAMP:20260423T030357
CREATED:20230921T125905Z
LAST-MODIFIED:20230921T125905Z
UID:10000197-1706605200-1706799600@ausbildung.berlin
SUMMARY:Kostenloser Workshop: "Lette Materials Lab 2024"
DESCRIPTION:Du willst herausfinden\, warum eine Sattelstange gebrochen ist oder wie eine verirrte Mücke in einem Handy aussieht? Dann melde Dich jetzt an! Der Ausbildungsgang Technische Assistentinnen und Assistenten für Metallographie und Werkstoffanalyse bietet im “Lette Materials Lab” vom 30.01.-01.02.2024 zum vierten Mal einen ganz besonderen kostenlosen Workshop an. Angeleitet von Profis aus Deutschland und Frankreich zerlegst Du ausgemusterte Geräte oder Bauteile und findest dann im Labor selbst heraus\, warum sie defekt sind. Du bekommst so einen ersten Einblick in den Beruf als Metallograph:in und kannst herausfinden\, ob diese Berufsausbildung etwas für Dich ist. Du musst nichts mitbringen: nur Dich selbst. Hier kannst Du den gesamten Plan für die drei Tage herunterladen.\n\n\n\n\n\n\n\n\n\n\nSolltest Du nicht aus Berlin kommen\, kümmern wir uns um eine passende Unterkunft für Dich. Für Verpflegung ist auch gesorgt. Fragen beantwortet unser Lehrer\, Michael Schleicher. m.schleicher@letteverein.berlin\n\n\n\n\n\n\n\n\n\n\n\n  Hier einfach online für das „Materials Lab“ anmelden
URL:https://ausbildung.berlin/event/kostenloser-workshop-lette-materials-lab-2024/
LOCATION:Berufsausbildungszentrum Lette Verein Berlin\, Viktoria-Luise-Platz 6\, Berlin\, Berlin\, 10777\, Deutschland
ATTACH;FMTTYPE=image/jpeg:https://ausbildung.berlin/wp-content/uploads/2023/09/LML_SchuelervorMonitor.jpg
ORGANIZER;CN="Berufsausbildungszentrum Lette Verein Berlin":MAILTO:f.sandmann@letteverein.berlin
END:VEVENT
END:VCALENDAR