BEGIN:VCALENDAR
VERSION:2.0
PRODID:-//ausbildung.berlin - ECPv6.15.20//NONSGML v1.0//EN
CALSCALE:GREGORIAN
METHOD:PUBLISH
X-ORIGINAL-URL:https://ausbildung.berlin
X-WR-CALDESC:Veranstaltungen für ausbildung.berlin
REFRESH-INTERVAL;VALUE=DURATION:PT1H
X-Robots-Tag:noindex
X-PUBLISHED-TTL:PT1H
BEGIN:VTIMEZONE
TZID:UTC
BEGIN:STANDARD
TZOFFSETFROM:+0000
TZOFFSETTO:+0000
TZNAME:UTC
DTSTART:20230101T000000
END:STANDARD
END:VTIMEZONE
BEGIN:VEVENT
DTSTART;TZID=UTC:20240122T100000
DTEND;TZID=UTC:20240126T150000
DTSTAMP:20260423T030233
CREATED:20231214T092935Z
LAST-MODIFIED:20231214T092935Z
UID:10000203-1705917600-1706281200@ausbildung.berlin
SUMMARY:Grüne Woche young generation hub
DESCRIPTION:Testmarkt Grüne Woche – jetzt auch für die Berufswahl!\nAnpacken\, Mitmachen\, Berufe hautnah erleben – das ist das Motto des young generation hubs auf der Grünen Woche. Entdeckt Berufe\, Ausbildungswege und Praktikumsplätze in den Bereichen Ernährung\, Landwirtschaft\, Garten\, Hotellerie\, Gastronomie\, Bau\, Klima und angrenzenden Sektoren. Im young generation hub\, der Ausbildungshalle der Grünen Woche\, darf es laut werden\, stauben und riechen. Hier legen wir keinen Wert auf stylische Stände\, sondern auf Interaktion und das unmittelbare Erleben der zukünftigen Berufe. Lasst euch von Azubis die Berufe demonstrieren und stellt direkt eure Fragen! Hier findet Ihr die spannenden Ausbildungsberufe\, die im young generation hub vorgestellt werden. Die Ausstellerprofile der teilnehmenden Unternehmen sind hier aufgeführt. \nWie kann ich dabei sein? \nIhr seid als Klasse ab Jahrgangsstufe 8 auf der Grünen Woche unterwegs? Dann verpasst nicht kostenlos die neue Karrierehalle young generation hub zu besuchen! Tickets für die Grüne Woche gibt es für 4\,00 € pro Schüler. Alle weiteren Informationen gibt es hier: Grüne Woche young generation.
URL:https://ausbildung.berlin/event/gruene-woche-young-generation-hub/
LOCATION:Messe Berlin\, Hammarskjöldplatz\, 14055 Berlin-Charlottenburg\, Berlin-Charlottenburg
ATTACH;FMTTYPE=image/png:https://ausbildung.berlin/wp-content/uploads/2023/12/Gruene-Woche-young-generation-hub.png
ORGANIZER;CN="Messe Berlin":MAILTO:nachwuchs@messe-berlin.de
END:VEVENT
BEGIN:VEVENT
DTSTART;TZID=UTC:20240123T100000
DTEND;TZID=UTC:20240123T130000
DTSTAMP:20260423T030233
CREATED:20240105T093117Z
LAST-MODIFIED:20240105T093117Z
UID:10000206-1706004000-1706014800@ausbildung.berlin
SUMMARY:Bewerbertag bei Patrick Killmayer Shell-Tankstellen
DESCRIPTION:Bewerbertag/ Vorstellung beim AG Du liebst alles was mit Autos zu tun hat? Du möchtest nicht den ganzen Tag an der Kasse sitzen und Ware auspacken? Körperlich schwere Arbeit ist nicht dein Ding? Du hast Freude am Umgang mit Menschen und am Verkauf? Dann komm zu uns und werde Verkäufer/in oder Kaufmann/-frau im Einzelhandel in unseren modernen Shell-Tankstellen in der Berliner City. Der Ausbildungsbeginn ist im Februar oder Sommer 2024 möglich. Ein Praktikum könnte ab sofort starten. Du möchtest gerne mehr wissen? Dann bist du herzlich eingeladen\, das Unternehmen und die Ausbildung kennenzulernen! Komm einfach vorbei am 23.1.24\, um 10 Uhr\, 11 Uhr oder 12 Uhr.
URL:https://ausbildung.berlin/event/bewerbertag-bei-patrick-killmayer-shell-tankstellen/
LOCATION:Shell Tankstelle P. Killmayer\, Sachsendamm 90\, Berlin\, Berlin\, 10829\, Deutschland
ORGANIZER;CN="Agentur f&uuml%3Br Arbeit Berlin Nord":MAILTO:arbeitsagentur.de
END:VEVENT
END:VCALENDAR