BEGIN:VCALENDAR
VERSION:2.0
PRODID:-//ausbildung.berlin - ECPv6.15.20//NONSGML v1.0//EN
CALSCALE:GREGORIAN
METHOD:PUBLISH
X-WR-CALNAME:ausbildung.berlin
X-ORIGINAL-URL:https://ausbildung.berlin
X-WR-CALDESC:Veranstaltungen für ausbildung.berlin
REFRESH-INTERVAL;VALUE=DURATION:PT1H
X-Robots-Tag:noindex
X-PUBLISHED-TTL:PT1H
BEGIN:VTIMEZONE
TZID:UTC
BEGIN:STANDARD
TZOFFSETFROM:+0000
TZOFFSETTO:+0000
TZNAME:UTC
DTSTART:20230101T000000
END:STANDARD
END:VTIMEZONE
BEGIN:VEVENT
DTSTART;TZID=UTC:20240119T080000
DTEND;TZID=UTC:20240119T143000
DTSTAMP:20260423T030808
CREATED:20231213T080134Z
LAST-MODIFIED:20231213T080134Z
UID:10000202-1705651200-1705674600@ausbildung.berlin
SUMMARY:Drachenboot-Indoor-Cup: Drachenbootrennen meets Ausbildungsmesse
DESCRIPTION:m Drachenboot zum Ausbildungsplatz oder Praktikum! Wie cool ist das denn!?! Komm zum ersten Indoor-Drachenboot-Cup der Jugendberufsagentur Berlin\, der Berliner Bäder-Betriebe\, der IHK Berlin und der Handwerkskammer Berlin! Zeigt als Schülerteam Euren sportlichen Wettkampfgeist\, tretet gegen andere Schülerteams an und lernt auf der Ausbildungsmesse in der Schwimm- und Sprunghalle Europasportpark tolle Arbeitgeber mit dem perfekten Praktikums- oder Ausbildungsplatz kennen. Wer kann dabei sein? \n\nSchulkassen der Sekundarstufe I (9-10 Klasse)\nmindestens 10 Schüler/innen für ein Wettkampfboot\nein weiterer Platz – ob Trommlerin/Trommler oder Paddlerin/Paddler – wird durch einen Arbeitgebervertreter besetzt und zugelost.\n\nDetails: \n\nAnmeldung hier: https://eveeno.com/324967869\nAnmeldeschluss: 01.12.2023\nDer Cup findet in einem 50m Olympia-Wettkampfbecken statt\nDie Drachenboote\, sowie sämtliches Zubehör werden zur Verfügung gestellt.\n\nNoch mehr Infos für Dich oder Deine Lehrkraft findest Du hier.
URL:https://ausbildung.berlin/event/drachenboot-indoor-cup-drachenbootrennen-meets-ausbildungsmesse-2/
LOCATION:Schwimm- und Sprunghalle im Europasportpark Wettkampfhalle Paul-Heyse-Straße 26\, 10407 Berlin\, Paul-Heyse-Straße 26\,\, Berlin\, Berlin\, 10407\, Deutschland
ATTACH;FMTTYPE=image/png:https://ausbildung.berlin/wp-content/uploads/2023/12/2023-11-16-09_30_17-Drachenboot-Flyer.png
ORGANIZER;CN="Agentur f&uuml%3Br Arbeit":MAILTO:https://www.jba-berlin.de/kontaktformular
END:VEVENT
END:VCALENDAR